BEGIN:VCALENDAR
VERSION:2.0
PRODID:-//A.B.I. Professional - Associazione Barmen Italiani - ECPv6.13.2.1//NONSGML v1.0//EN
CALSCALE:GREGORIAN
METHOD:PUBLISH
X-ORIGINAL-URL:https://demo2025.abiprofessional.it
X-WR-CALDESC:Eventi per A.B.I. Professional - Associazione Barmen Italiani
REFRESH-INTERVAL;VALUE=DURATION:PT1H
X-Robots-Tag:noindex
X-PUBLISHED-TTL:PT1H
BEGIN:VTIMEZONE
TZID:Europe/Rome
BEGIN:DAYLIGHT
TZOFFSETFROM:+0100
TZOFFSETTO:+0200
TZNAME:CEST
DTSTART:20250330T010000
END:DAYLIGHT
BEGIN:STANDARD
TZOFFSETFROM:+0200
TZOFFSETTO:+0100
TZNAME:CET
DTSTART:20251026T010000
END:STANDARD
END:VTIMEZONE
BEGIN:VEVENT
DTSTART;TZID=Europe/Rome:20250731T080000
DTEND;TZID=Europe/Rome:20250731T170000
DTSTAMP:20260419T223230
CREATED:20250701T125635Z
LAST-MODIFIED:20250701T125942Z
UID:8849-1753948800-1753981200@demo2025.abiprofessional.it
SUMMARY:Estate caldissima
DESCRIPTION:Fa davvero caldo!
URL:https://demo2025.abiprofessional.it/index.php/event/estate-caldissima/
LOCATION:Piazza Duomo\, Piazza Duomo\, Milano\, Italy
CATEGORIES:Concorsi
END:VEVENT
END:VCALENDAR