BEGIN:VCALENDAR
VERSION:2.0
PRODID:-//A.B.I. Professional - Associazione Barmen Italiani - ECPv6.13.2.1//NONSGML v1.0//EN
CALSCALE:GREGORIAN
METHOD:PUBLISH
X-ORIGINAL-URL:https://demo2025.abiprofessional.it
X-WR-CALDESC:Eventi per A.B.I. Professional - Associazione Barmen Italiani
REFRESH-INTERVAL;VALUE=DURATION:PT1H
X-Robots-Tag:noindex
X-PUBLISHED-TTL:PT1H
BEGIN:VTIMEZONE
TZID:Europe/Rome
BEGIN:DAYLIGHT
TZOFFSETFROM:+0100
TZOFFSETTO:+0200
TZNAME:CEST
DTSTART:20250330T010000
END:DAYLIGHT
BEGIN:STANDARD
TZOFFSETFROM:+0200
TZOFFSETTO:+0100
TZNAME:CET
DTSTART:20251026T010000
END:STANDARD
END:VTIMEZONE
BEGIN:VEVENT
DTSTART;TZID=Europe/Rome:20251215T160000
DTEND;TZID=Europe/Rome:20251215T233000
DTSTAMP:20260419T223425
CREATED:20251122T175521Z
LAST-MODIFIED:20251122T180708Z
UID:8902-1765814400-1765841400@demo2025.abiprofessional.it
SUMMARY:brindisi di fine anno Lombardia
DESCRIPTION:Cari soci\, la sezione Lombardia desidera organizzare un ultimo incontro per l’anno 2025 a Mantova\, così gentilmente proposto dai nostri soci Laura e Mirko:\n• Visita guidata nel centro storico di Mantova a cura di Laura (durata 1h circa);\n• Riunione con brindisi presso il locale di Mirko (durata 1h circa);\n• Cena in un locale raggiungibile a piedi in 10 minuti.\nVi preghiamo di comunicare la Vostra adesione tramite il sondaggio a seguire entro e non oltre il giorno 21 novembre.
URL:https://demo2025.abiprofessional.it/index.php/event/brindisi-di-fine-anno-lombardia/
LOCATION:via giovanni chiassi 6 mantova\, via giovanni chiassi\, 6\, mantova\, italy
CATEGORIES:vita associativa
END:VEVENT
END:VCALENDAR